BEGIN:VCALENDAR
VERSION:2.0
PRODID:-//FSR WiWi  - ECPv5.2.1//NONSGML v1.0//EN
CALSCALE:GREGORIAN
METHOD:PUBLISH
X-WR-CALNAME:FSR WiWi 
X-ORIGINAL-URL:https://www.fachschaftsrat.de
X-WR-CALDESC:Veranstaltungen für FSR WiWi 
BEGIN:VTIMEZONE
TZID:Europe/Berlin
BEGIN:DAYLIGHT
TZOFFSETFROM:+0100
TZOFFSETTO:+0200
TZNAME:CEST
DTSTART:20210328T010000
END:DAYLIGHT
BEGIN:STANDARD
TZOFFSETFROM:+0200
TZOFFSETTO:+0100
TZNAME:CET
DTSTART:20211031T010000
END:STANDARD
END:VTIMEZONE
BEGIN:VEVENT
DTSTART;TZID=Europe/Berlin:20210630T180000
DTEND;TZID=Europe/Berlin:20210630T190000
DTSTAMP:20260423T142805
CREATED:20200716T115322Z
LAST-MODIFIED:20210629T150616Z
UID:9954-1625076000-1625079600@www.fachschaftsrat.de
SUMMARY:Konstituierende Sitzung
DESCRIPTION:Liebe Studierende\, \nhiermit möchten wir euch zu unserer diesjährigen konstituierenden Sitzung am 30.06.2021 über Discord einladen. Die Sitzung wird um 18:00 Uhr stattfinden. Bei Interesse tretet dem Discord bei. \nAuf der konstituierenden Sitzung wird unter anderem das Wahlergebnis verkündet\, die offiziellen Ämter unter den gewählten Mitgliedern vergeben und der  “alte” FSR verabschiedet und der “neue” FSR ernannt. \nWir freuen uns auf euch!
URL:https://www.fachschaftsrat.de/veranstaltung/konstituierende-sitzung/
LOCATION:Foyer Haus 6 Griebnitzsee
ATTACH;FMTTYPE=image/jpeg:https://www.fachschaftsrat.de/wp-content/uploads/2019/08/DSC06897.jpg
ORGANIZER;CN="Fachschaftsrat%20Wirtschaftswissenschaften":MAILTO:team@fachschaftsrat.de
END:VEVENT
END:VCALENDAR