BEGIN:VCALENDAR
VERSION:2.0
PRODID:-//FSR WiWi  - ECPv5.2.1//NONSGML v1.0//EN
CALSCALE:GREGORIAN
METHOD:PUBLISH
X-WR-CALNAME:FSR WiWi 
X-ORIGINAL-URL:https://www.fachschaftsrat.de
X-WR-CALDESC:Veranstaltungen für FSR WiWi 
BEGIN:VTIMEZONE
TZID:Europe/Berlin
BEGIN:DAYLIGHT
TZOFFSETFROM:+0100
TZOFFSETTO:+0200
TZNAME:CEST
DTSTART:20210328T010000
END:DAYLIGHT
BEGIN:STANDARD
TZOFFSETFROM:+0200
TZOFFSETTO:+0100
TZNAME:CET
DTSTART:20211031T010000
END:STANDARD
END:VTIMEZONE
BEGIN:VEVENT
DTSTART;TZID=Europe/Berlin:20211019T160000
DTEND;TZID=Europe/Berlin:20211019T200000
DTSTAMP:20260423T101705
CREATED:20211018T153028Z
LAST-MODIFIED:20211018T155231Z
UID:10376-1634659200-1634673600@www.fachschaftsrat.de
SUMMARY:Bierball / Flunkyball
DESCRIPTION:Um mitzuspielen müsst ihr euch anmelden und mit reichlich Bier/Radler/Wasser oder einem anderen 0\,5ml Getränk am Dienstag aufkreuzten. Auch wenn es klassisch mit Bier gespielt wird\, wollen wir so allen die Möglichkeit geben\, mit Spaß und Ehrgeiz Teil zu nehmen. Des Weiteren gibt es bei uns die Möglichkeit Bier oder Radler für das Turnier zu kaufen. \nDie Veranstaltung findet im Rahmen der 3G Regeln statt. \nStay tuned und seid schnell\, es gibt nur 80 Plätze!🎉 \n  \nWir freuen uns auf euch 🥳
URL:https://www.fachschaftsrat.de/veranstaltung/bierball-flunkyball/
LOCATION:Campus Griebnitzsee\, Mikadoplatz
ATTACH;FMTTYPE=image/png:https://www.fachschaftsrat.de/wp-content/uploads/2021/10/Bild_2021-10-18_173056.png
END:VEVENT
BEGIN:VEVENT
DTSTART;TZID=Europe/Berlin:20211021T193000
DTEND;TZID=Europe/Berlin:20211021T220000
DTSTAMP:20260423T101705
CREATED:20211018T154232Z
LAST-MODIFIED:20211020T114226Z
UID:10384-1634844600-1634853600@www.fachschaftsrat.de
SUMMARY:Spätitour Berlin
DESCRIPTION:Liebe Wiwis\, \nam Donnerstag ziehen wir mit euch durch die Straßen Berlins. Wir werden in Kreuzberg beginnen und uns den Weg in Richtung Neukölln bahnen. Auf der Tour erwarten euch neben dem Wegbier auch ein Einblick in die berüchtigte Späti Kultur Berlins! \nWir treffen uns gegen 19:30 am Halleschen Tor kurz vor dem Mehringplatz\, um dann in die Nacht zu ziehen. Vorbeiziehend an kulinarischen Highlights wie Curry 36 und Mustafas Gemüse Kebap\, kommen wir an diversen Spätis vorbei\, um alle Getränkevorräte schnellstmöglich wieder aufzufüllen. Vom Bergmannkiez aus werden wir uns in Richtung Neukölln begeben\, sodass wir optimalerweise vom Hermannplatz am Ende Richtung Kottbusser Tor schlendern können. \nBringt euch warme Kleidung mit\, da die Spätis euch nur von innen wärmen und die Herbstnächte rauer werden. \nWir freuen uns auf euch!
URL:https://www.fachschaftsrat.de/veranstaltung/spaetitour-berlin-2/
LOCATION:Halleschen Tor
ATTACH;FMTTYPE=image/png:https://www.fachschaftsrat.de/wp-content/uploads/2021/10/Bild_2021-10-18_173742.png
END:VEVENT
BEGIN:VEVENT
DTSTART;TZID=Europe/Berlin:20211026T180000
DTEND;TZID=Europe/Berlin:20211026T200000
DTSTAMP:20260423T101705
CREATED:20211018T155040Z
LAST-MODIFIED:20211018T155040Z
UID:10388-1635271200-1635278400@www.fachschaftsrat.de
SUMMARY:Pup Quiz
DESCRIPTION:Gespielt wird in Teams\, die sich vor Ort finden können. Wenn ihr also noch niemanden kennt ist das absolut kein Problem! \nEs wird eine Bar geben an der ihr (alkoholische und alkoholfreie) Getränke erwerben könnt. \nAb circa 20.00 Uhr ist Open House und ihr könnt drinnen und draußen den Abend genießen (auch Personen die kein Ticket für das Pub Quiz mehr bekommen haben). \nWir freuen uns auf euch!
URL:https://www.fachschaftsrat.de/veranstaltung/pup-quiz/
LOCATION:Casino der FH Potsdam
ATTACH;FMTTYPE=image/png:https://www.fachschaftsrat.de/wp-content/uploads/2021/10/Bild_2021-10-18_174848.png
END:VEVENT
END:VCALENDAR