BEGIN:VCALENDAR
VERSION:2.0
PRODID:-//FSR WiWi  - ECPv5.2.1//NONSGML v1.0//EN
CALSCALE:GREGORIAN
METHOD:PUBLISH
X-WR-CALNAME:FSR WiWi 
X-ORIGINAL-URL:https://www.fachschaftsrat.de
X-WR-CALDESC:Veranstaltungen für FSR WiWi 
BEGIN:VTIMEZONE
TZID:Europe/Berlin
BEGIN:DAYLIGHT
TZOFFSETFROM:+0100
TZOFFSETTO:+0200
TZNAME:CEST
DTSTART:20210328T010000
END:DAYLIGHT
BEGIN:STANDARD
TZOFFSETFROM:+0200
TZOFFSETTO:+0100
TZNAME:CET
DTSTART:20211031T010000
END:STANDARD
END:VTIMEZONE
BEGIN:VEVENT
DTSTART;TZID=Europe/Berlin:20211102T180000
DTEND;TZID=Europe/Berlin:20211102T200000
DTSTAMP:20260423T084312
CREATED:20211101T105647Z
LAST-MODIFIED:20211101T105647Z
UID:10428-1635876000-1635883200@www.fachschaftsrat.de
SUMMARY:Spieleabend
DESCRIPTION:Wir wollen uns mit euch einen lustigen Abend mit klassischen Gesellschaftsspielen\, Trink-Sport und kleinen Aufgaben machen! \nBringt dafür bitte Getränke eurer Wahl und gute Laune mit 🍻🤝🏼.\nGerne könnt ihr auch Spiele beisteuern\, die ihr mit euren Kommiliton:innen ausprobieren wollt. \nWir freuen uns auf einen geilen Abend\, wir haben Bock auf euch!
URL:https://www.fachschaftsrat.de/veranstaltung/spieleabend/
ATTACH;FMTTYPE=image/png:https://www.fachschaftsrat.de/wp-content/uploads/2021/11/Bild_2021-11-01_115438.png
END:VEVENT
BEGIN:VEVENT
DTSTART;TZID=Europe/Berlin:20211103T180000
DTEND;TZID=Europe/Berlin:20211105T193000
DTSTAMP:20260423T084312
CREATED:20191124T172030Z
LAST-MODIFIED:20211101T110916Z
UID:9850-1635962400-1636140600@www.fachschaftsrat.de
SUMMARY:Ersti-Sitzung!
DESCRIPTION:Am kommenden Mittwoch laden wir euch alle herzlich zu unserer FSR Sitzung ein. Wir freuen uns über alle\, die Interesse daran haben\, einen Einblick in unsere Arbeit zu erhalten. Die Sitzung wird in S12 stattfinden. (Haus 6) \n\n\n\n\n\n  \n\n\n\n 
URL:https://www.fachschaftsrat.de/veranstaltung/ersti-sitzung/
LOCATION:Campus Griebnitzsee\, Haus 6\, S12
END:VEVENT
BEGIN:VEVENT
DTSTART;TZID=Europe/Berlin:20211104T160000
DTEND;TZID=Europe/Berlin:20211104T200000
DTSTAMP:20260423T084312
CREATED:20211101T110537Z
LAST-MODIFIED:20211101T110849Z
UID:10433-1636041600-1636056000@www.fachschaftsrat.de
SUMMARY:Wanderung
DESCRIPTION:
URL:https://www.fachschaftsrat.de/veranstaltung/wanderung/
ATTACH;FMTTYPE=image/png:https://www.fachschaftsrat.de/wp-content/uploads/2021/11/Bild_2021-11-01_120441.png
END:VEVENT
BEGIN:VEVENT
DTSTART;TZID=Europe/Berlin:20211110T180000
DTEND;TZID=Europe/Berlin:20211110T193000
DTSTAMP:20260423T084312
CREATED:20201025T075409Z
LAST-MODIFIED:20211101T105628Z
UID:10074-1636567200-1636572600@www.fachschaftsrat.de
SUMMARY:FSR Sitzung
DESCRIPTION:Reguläre FSR Sitzung wie jeden Mittwoch um 18:00 in S12!\n\n\n\nKommt vorbei und stellt und eure Fragen\, oder bleibt sitzen und schaut euch an\, wie unsere Sitzungen ablaufen.\n\n\n\nWir freuen uns auf euch!
URL:https://www.fachschaftsrat.de/veranstaltung/fsr-sitzung-2/
LOCATION:Campus Griebnitzsee\, Haus 6\, S12
ORGANIZER;CN="Fachschaftsrat%20Wirtschaftswissenschaften":MAILTO:team@fachschaftsrat.de
END:VEVENT
BEGIN:VEVENT
DTSTART;TZID=Europe/Berlin:20211117T180000
DTEND;TZID=Europe/Berlin:20211117T193000
DTSTAMP:20260423T084312
CREATED:20201111T175444Z
LAST-MODIFIED:20211101T105607Z
UID:10186-1637172000-1637177400@www.fachschaftsrat.de
SUMMARY:FSR Sitzung
DESCRIPTION:Reguläre FSR Sitzung wie jeden Mittwoch um 18:00 in S12!\n\n\n\nKommt vorbei und stellt und eure Fragen\, oder bleibt sitzen und schaut euch an\, wie unsere Sitzungen ablaufen.\n\n\n\nWir freuen uns auf euch!
URL:https://www.fachschaftsrat.de/veranstaltung/fsr-sitzung-3/
LOCATION:Campus Griebnitzsee\, Haus 6\, S12
ORGANIZER;CN="Fachschaftsrat%20Wirtschaftswissenschaften":MAILTO:team@fachschaftsrat.de
END:VEVENT
END:VCALENDAR